BEGIN:VCALENDAR
VERSION:2.0
PRODID:Events Booking
BEGIN:VEVENT
UID:69e62ed792b62
SUMMARY:Evidence-Based Case Management Pathways for Individual Engagement &
  Care Coordination (May 6 & 7\, 2025)
DESCRIPTION:Professional Skills For Individual Engagement &amp\; Care Coord
 ination
LOCATION:At your desktop or smart device.
DTSTART:20250506T153000Z
DTEND:20250507T223000Z
DTSTAMP:20260420T134911Z
ORGANIZER;CN=Yvette Hughes:MAILTO:yhughes@ebphub.com
END:VEVENT
END:VCALENDAR