BEGIN:VCALENDAR
VERSION:2.0
PRODID:Events Booking
BEGIN:VEVENT
UID:69e62e151ffb9
SUMMARY:Evidence-Based Pathways Masterclass for Organizational Leadership
DESCRIPTION:Strategy and Tactics for Leadership Development &amp\; Organiza
 tional Sustainability
LOCATION:At your desktop or smart device.
DTSTART:20250509T153000Z
DTEND:20250509T223000Z
DTSTAMP:20260420T134557Z
ORGANIZER;CN=Yvette Hughes:MAILTO:yhughes@ebphub.com
END:VEVENT
END:VCALENDAR