BEGIN:VCALENDAR
VERSION:2.0
PRODID:Events Booking
BEGIN:VEVENT
UID:69e62e21ad2f3
SUMMARY:Certification in Evidence-Based Leadership (CEBL)
DESCRIPTION:Certified Evidence-Based&nbsp\;Leadership (CEBL)
LOCATION:At your desktop or smart device.
DTSTART:20250418T123000Z
DTEND:20250418T193000Z
DTSTAMP:20260420T134609Z
ORGANIZER;CN=Yvette Hughes:MAILTO:yhughes@ebphub.com
END:VEVENT
END:VCALENDAR