BEGIN:VCALENDAR
VERSION:2.0
PRODID:Events Booking
BEGIN:VEVENT
UID:69e62e9760065
SUMMARY:Motivational Interviewing (MI) Skills For Front-Line & Direct Servi
 ces Teams (Aug. 12\, 2025)
DESCRIPTION:
LOCATION:At your desktop or smart device.
DTSTART:20250812T153000Z
DTEND:20250812T223000Z
DTSTAMP:20260420T134807Z
ORGANIZER;CN=Yvette Hughes:MAILTO:yhughes@ebphub.com
END:VEVENT
END:VCALENDAR