BEGIN:VCALENDAR
VERSION:2.0
PRODID:Events Booking
BEGIN:VEVENT
UID:69e62ed17d557
SUMMARY:Motivational Interviewing (MI) Skills Training for Supervisors & Co
 aches
DESCRIPTION:
LOCATION:At your desktop or smart device.
DTSTART:20250813T153000Z
DTEND:20250813T223000Z
DTSTAMP:20260420T134905Z
ORGANIZER;CN=Yvette Hughes:MAILTO:yhughes@ebphub.com
END:VEVENT
END:VCALENDAR