BEGIN:VCALENDAR
VERSION:2.0
PRODID:Events Booking
BEGIN:VEVENT
UID:69e62f2cae784
SUMMARY:Motivational Interviewing (MI): Core & Advanced Skills for Internal
  Agency Trainers
DESCRIPTION:
LOCATION:At your desktop or smart device.
DTSTART:20250812T153000Z
DTEND:20250820T223000Z
DTSTAMP:20260420T135036Z
ORGANIZER;CN=Yvette Hughes:MAILTO:yhughes@ebphub.com
END:VEVENT
END:VCALENDAR