BEGIN:VCALENDAR
VERSION:2.0
PRODID:Events Booking
BEGIN:VEVENT
UID:69e62e1448ae4
SUMMARY:Evidence-Based Case Management Pathways for Individual Engagement &
  Care Coordination (Oct. 21 & 22\, 2025)
DESCRIPTION:Professional Skills For Individual Engagement &amp\; Care Coord
 ination
LOCATION:At your desktop or smart device.
DTSTART:20251021T153000Z
DTEND:20251022T223000Z
DTSTAMP:20250812T004831Z
ORGANIZER;CN=Yvette Hughes:MAILTO:yhughes@ebphub.com
END:VEVENT
END:VCALENDAR