BEGIN:VCALENDAR
VERSION:2.0
PRODID:Events Booking
BEGIN:VEVENT
UID:69e63f49662f2
SUMMARY:Evidence-Based \"PATHWAYS\" for Justice Services: Core Skills for W
 orking With Reentering & Justice Involved Citizens -  (3-Day | CE Training
  Hours - 20)
DESCRIPTION:
LOCATION:2 Poydras St. New Orleans\, LA 70130
DTSTART:20170405T123000Z
DTEND:20170407T193000Z
DTSTAMP:20260420T145921Z
ORGANIZER;CN=Yvette Hughes:MAILTO:yhughes@ebphub.com
GEO:29.946398;-90.065917
X-APPLE-STRUCTURED-LOCATION;VALUE=URI;X-ADDRESS=2 Poydras St. New Orleans\,
  LA 70130;X-APPLE-RADIUS=72;X-TITLE=Hilton New Orleans Riverside:29.946398
 ;-90.065917
END:VEVENT
END:VCALENDAR