BEGIN:VCALENDAR
VERSION:2.0
PRODID:Events Booking
BEGIN:VEVENT
UID:69e62dad4481f
SUMMARY:Trauma-informed Practice: Internal Agency Trainer Training (Feb. 11
 \, 12 & 13\, 2026)
DESCRIPTION:
LOCATION:At your desktop or smart device.
DTSTART:20260211T143000Z
DTEND:20260213T213000Z
DTSTAMP:20260127T031314Z
ORGANIZER;CN=Yvette Hughes:MAILTO:yhughes@ebphub.com
END:VEVENT
END:VCALENDAR