BEGIN:VCALENDAR
VERSION:2.0
PRODID:Events Booking
BEGIN:VEVENT
UID:69e63de53ed87
SUMMARY:Implementation for Evidence-Based Organizations: Advance Skills for
  Strategic Planning & Implementation - (2-Day | CE Training Hours-13)
DESCRIPTION:Advance Skills for Strategic Planning &amp\; Implementation
 
LOCATION:3900 S Las Vegas\, NV 89119
DTSTART:20170817T123000Z
DTEND:20170818T193000Z
DTSTAMP:20260420T145325Z
ORGANIZER;CN=Yvette Hughes:MAILTO:yhughes@ebphub.com
GEO:0;-84.369861
X-APPLE-STRUCTURED-LOCATION;VALUE=URI;X-ADDRESS=3900 S Las Vegas\, NV 89119
 ;X-APPLE-RADIUS=72;X-TITLE=Luxor Hotel\, Las Vegas\, Nevada:0;-84.369861
END:VEVENT
END:VCALENDAR