BEGIN:VCALENDAR
VERSION:2.0
PRODID:Events Booking
BEGIN:VEVENT
UID:69e63e453f1c6
SUMMARY:Motivational Interviewing: Core Skills for Durable Change - (2-Day 
 | CE Training Hours - 13)
DESCRIPTION:
LOCATION:Southern CA Alcohol & Drug Programs Inc. 11500 Paramount Blvd\, Do
 wney\, CA 90241\, USA
DTSTART:20170525T123000Z
DTEND:20170526T040000Z
DTSTAMP:20260420T145501Z
ORGANIZER;CN=Yvette Hughes:MAILTO:yhughes@ebphub.com
GEO:33.940168;-118.139473
X-APPLE-STRUCTURED-LOCATION;VALUE=URI;X-ADDRESS=Southern CA Alcohol & Drug 
 Programs Inc. 11500 Paramount Blvd\, Downey\, CA 90241\, USA;X-APPLE-RADIU
 S=72;X-TITLE=Downey\, CA:33.940168;-118.139473
END:VEVENT
END:VCALENDAR