BEGIN:VCALENDAR
VERSION:2.0
PRODID:Events Booking
BEGIN:VEVENT
UID:69e63c42aa18b
SUMMARY:Becoming an Evidence-Based Practitioner: Core & Advance Skills for 
 Working With Clients - (3-Day | CE Training Hours - 20)
DESCRIPTION:
LOCATION:3900 S Las Vegas\, NV 89119
DTSTART:20170816T123000Z
DTEND:20170818T193000Z
DTSTAMP:20260420T144626Z
ORGANIZER;CN=Yvette Hughes:MAILTO:yhughes@ebphub.com
GEO:0;-84.369861
X-APPLE-STRUCTURED-LOCATION;VALUE=URI;X-ADDRESS=3900 S Las Vegas\, NV 89119
 ;X-APPLE-RADIUS=72;X-TITLE=Luxor Hotel\, Las Vegas\, Nevada:0;-84.369861
END:VEVENT
END:VCALENDAR