BEGIN:VCALENDAR
VERSION:2.0
PRODID:Events Booking
BEGIN:VEVENT
UID:69e63e4507875
SUMMARY:Motivational Interviewing: Core Skills for Durable Change (2-Day | 
 13 CE Training Hours) - Billings\, MT
DESCRIPTION:
LOCATION:Country Inns & Suites By Carlson\, 231 Main St\, Billings\, MT 591
 05\, USA
DTSTART:20170824T123000Z
DTEND:20170825T193000Z
DTSTAMP:20260420T145501Z
ORGANIZER;CN=Yvette Hughes:MAILTO:yhughes@ebphub.com
GEO:45.803012;-108.477238
X-APPLE-STRUCTURED-LOCATION;VALUE=URI;X-ADDRESS=Country Inns & Suites By Ca
 rlson\, 231 Main St\, Billings\, MT 59105\, USA;X-APPLE-RADIUS=72;X-TITLE=
 Country Inns & Suites By Carlson\, Billings\, MT 59105:45.803012;-108.4772
 38
END:VEVENT
END:VCALENDAR