BEGIN:VCALENDAR
VERSION:2.0
PRODID:Events Booking
BEGIN:VEVENT
UID:69e63e99dd289
SUMMARY:Effective Case Management - Nov. 1\, 2013 - Online Webinar
DESCRIPTION:Core Skills for Evidence-Based and Strenth-Centered Practices

  Register 4 or More at same time - Pay Only $95 ea.
DTSTART:20131101T180000Z
DTEND:20131101T200000Z
DTSTAMP:20260420T145625Z
ORGANIZER;CN=Yvette Hughes:MAILTO:yhughes@ebphub.com
END:VEVENT
END:VCALENDAR