BEGIN:VCALENDAR
VERSION:2.0
PRODID:Events Booking
BEGIN:VEVENT
UID:69e55b78e9b5f
SUMMARY:Motivational Interviewing (MI) Skills For Front-Line & Direct Servi
 ces Teams (August 6\, 2024)
DESCRIPTION:
LOCATION:At your desktop or smart device.
DTSTART:20240806T153000Z
DTEND:20240806T223000Z
DTSTAMP:20260419T224720Z
ORGANIZER;CN=Yvette Hughes:MAILTO:yhughes@ebphub.com
END:VEVENT
END:VCALENDAR