BEGIN:VCALENDAR
VERSION:2.0
PRODID:Events Booking
BEGIN:VEVENT
UID:69e6fee171848
SUMMARY:Evidence-Based Case Management Pathways: Core Skills for Coordinati
 ng Care (April 22\, 2026)
DESCRIPTION:Professional Skills For Coordinating Services &amp\; Care
LOCATION:At your desktop or smart device.
DTSTART:20260422T153000Z
DTEND:20260422T223000Z
DTSTAMP:20260421T043649Z
ORGANIZER;CN=Yvette Hughes:MAILTO:yhughes@ebphub.com
END:VEVENT
END:VCALENDAR